Workbook

Sheet 官庁訪問カード
D5: No. | CC5: 訪問日 ： | CU5: =IF(入力シート!$C$3="","",入力シート!$C$3)
A10: 国家公務員一般職試験（高卒者試験）官庁訪問カード
D18: =IF(入力シート!$C$2="","",入力シート!$C$2) | AE18: 第一次試験地： | BD18: =IF(入力シート!$C$4="","",入力シート!$C$4) | CE18: 受験番号： | CX18: =IF(入力シート!$C$5="","",入力シート!$C$5)
D23: ふりがな | Z23: =IF(入力シート!$C$7="","",入力シート!$C$7) | CS23: 写真貼付
D33: 氏 名 | Z33: =IF(入力シート!$C$6="","",入力シート!$C$6)
D45: 生年月日 | Z45: =IF(入力シート!$C$8="","",入力シート!$C$8) | BJ45: =IF(入力シート!$C$9="","",入力シート!$C$9) | BR45: 歳 | BY45: 性別 | CF45: =IF(入力シート!$C$10="","",入力シート!$C$10)
D62: 現住所 | Z62: 〒 | AE62: =IF(入力シート!$C$12="","",入力シート!$C$12) | BJ62: =IF(入力シート!$C$14=1,"☑","□") -> □ | BO62: 自宅 (親元) | BY62: =IF(入力シート!$C$14=2,"☑","□") -> □ | CD62: 借家 | CN62: =IF(入力シート!$C$14=3,"☑","□") -> □ | CR62: その他 | DB62: =IF(入力シート!C15="","",入力シート!C15)
Z71: =IF(入力シート!$C$13="","",入力シート!C13)
D80: 最寄駅 | Z80: =IF(入力シート!$C$16="","",入力シート!$C$16) | BJ80: =IF(入力シート!$C$17="","",入力シート!C$17)
D88: 電話番号 | Z88: =IF(入力シート!$C$18="","",入力シート!$C$18)
D96: 学 歴 | Z96: 学校名 | BO96: 学科・専攻・コース等 | CY96: =IF(入力シート!$C$22="","",入力シート!$C$22)
Z101: =IF(入力シート!$C$19="","",入力シート!$C$19) | BO101: =IF(入力シート!$C$20 ="","",入力シート!$C$20) | CY101: =IF(入力シート!$C$21="","",入力シート!$C$21)
D110: 職 歴 | Z110: 勤務期間 | BI110: 職務内容
D116: =IF(入力シート!$C$23=1,"☑","□") -> □ | L116: 有 | Z116: =IF(入力シート!$C$25="","",入力シート!$C$25) | AP116: ～ | AS116: =IF(入力シート!$C$26="","",入力シート!$C$26) | BI116: =IF(入力シート!$C$24="","",入力シート!$C$24)
Z122: =IF(入力シート!$C$28="","",入力シート!$C$28) | AP122: ～ | AS122: =IF(入力シート!$C$29="","",入力シート!$C$29) | BI122: =IF(入力シート!$C$27="","",入力シート!$C$27)
D125: =IF(入力シート!$C$23=2,"☑","□") -> □ | L125: 無
Z128: =IF(入力シート!$C$31="","",入力シート!$C$31) | AP128: ～ | AS128: =IF(入力シート!$C$32="","",入力シート!$C$32) | BI128: =IF(入力シート!$C$30="","",入力シート!$C$30)
D134: 免許・資格（語学その他）
D140: 取得年月 | Z140: 免許・資格名等
D147: =IF(入力シート!$C$34="","",入力シート!$C$34) | Z147: =IF(入力シート!$C$33="","",入力シート!$C$33)
D154: =IF(入力シート!$C$36="","",入力シート!$C$36) | Z154: =IF(入力シート!$C$35="","",入力シート!$C$35)
D161: =IF(入力シート!$C$38="","",入力シート!$C$38) | Z161: =IF(入力シート!$C$37="","",入力シート!$C$37)
D168: =IF(入力シート!$C$40="","",入力シート!$C$40) | Z168: =IF(入力シート!$C$39="","",入力シート!$C$39)
D175: 趣味・特技
D180: =IF(入力シート!$C$41="","",入力シート!$C$41)
CY187: （裏面に続く）
D205: 〔当局を志望する理由〕
D238: 〔最近関心を持った事項〕
D264: 〔特に力を入れた教科や学術分野〕
D297: 〔学生時代に学業以外で特に熱心に取り組んだこと、又は、これまでの経験で印象に残っていること〕
D344: 〔採用になった場合の勤務開始可能日〕
D349: =IF(入力シート!$C$46=1,"☑","□") -> □ | I349: =TODAY()+365 -> 46668 | P349: .1.1 | AB349: =IF(入力シート!$C$46=2,"☑","□") -> □ | AG349: =TODAY()+365 -> 46668 | AN349: .4.1 | AZ349: =IF(入力シート!$C$46=3,"☑","□") -> □ | BH349: その他 | BW349: =IF(入力シート!C47="","",入力シート!C47)
D357: 〔採用志望省庁等〕
D362: 国家公務員 | AJ362: =IF(入力シート!$C$48="","",入力シート!$C$48) | CC362: =IF(入力シート!$C$49="","",入力シート!$C$49)
AJ368: =IF(入力シート!$C$50="","",入力シート!$C$50) | CC368: =IF(入力シート!$C$51="","",入力シート!$C$51)
D374: 地方公務員 | AJ374: =IF(入力シート!$C$52="","",入力シート!$C$52) | CC374: =IF(入力シート!$C$53="","",入力シート!$C$53)
D380: 民間企業・その他 | AJ380: =IF(入力シート!$C$54="","",入力シート!$C$54) | CC380: =IF(入力シート!$C$55="","",入力シート!$C$55)
D386: 備考 | T386: =IF(入力シート!$C$56="","",入力シート!$C$56)

Sheet 入力シート
B1: 項目名 | C1: 入力欄 | D1: 備考 | E1: 記入例
A2: 1 | B2: 記入日 | D2: 年（西暦）/月/日の順に入力してください | E2: 45208
A3: 2 | B3: 官庁訪問日 | D3: 年（西暦）/月/日の順に入力してください | E3: 45209
A4: 3 | B4: 第一次試験地 | E4: 福岡市
A5: 4 | B5: 受験番号 | E5: 80000
A6: 5 | B6: 氏名 | D6: 姓と名の間はスペースを空けてください | E6: 入管 太郎
A7: 6 | B7: 氏名のふりがな | D7: 姓と名の間はスペースを空けてください | E7: にゅうかん たろう
A8: 7 | B8: 生年月日 | D8: 年（西暦）/月/日の順に入力してください | E8: 36526
A9: 8 | B9: 年齢 | E9: 20
A10: 9 | B10: 性別 | E10: 男
A11: 10 | B11: 顔写真 | C11: ※印刷後貼り付けてください
A12: 11 | B12: 現住所の郵便番号 | E12: 108-8255
A13: 12 | B13: 現住所 | D13: 都道府県名から入力してください | E13: 福岡県福岡市中央区舞鶴3-5-25
A14: 13 | B14: 住居の種別 | D14: 自宅（親元）の場合は「1」、借家の場合は「2」、その他の場合は「3」を入力してください（半角） | E14: 1
A15: 14 | B15: 13でその他を選んだ場合の住居種別 | D15: 詳細を入力してください
A16: 15 | B16: 最寄り駅の鉄道路線 | D16: JRの場合はJR〇〇線、私鉄の場合は（鉄道会社名）〇〇線と入力してください | E16: JR山手線
A17: 16 | B17: 最寄駅 | E17: 品川駅
A18: 17 | B18: 連絡先電話番号 | E18: 090-××××-■■■■
A19: 18 | B19: 最終学歴にあたる学校名 | E19: 法務省大学法学部
A20: 19 | B20: 18の学科・専攻・コース等 | D20: 最終学歴にあたる学校において所属していた学科・専攻・コース等を入力してください | E20: 法律学科
A21: 20 | B21: 現在の修学状態 | D21: 卒業の場合は「卒業」、卒業見込みの場合は「卒見」、中退の場合は「中退」と入力してください
A22: 21 | B22: 卒業もしくは中退した年（西暦）・月 | D22: 20で卒業見込みと入力した場合は卒業する予定の年（西暦）・月を入力してください | E22: 46447
A23: 22 | B23: 職歴 | D23: 職歴がある場合は「1」を、ない場合は「2」を入力してください（半角）
A24: 23 | B24: 職歴①の職務内容
A25: 24 | B25: 職歴①の勤務開始月 | D25: 勤務を開始した年（西暦）・月を入力してください | E25: 43891
A26: 25 | B26: 職歴①の勤務終了月 | D26: 勤務を終了した（退職した）年（西暦）・月を入力してください | E26: 43891
A27: 26 | B27: 職歴②の職務内容
A28: 27 | B28: 職歴②の勤務開始月 | D28: 勤務を開始した年（西暦）・月を入力してください | E28: 43891
A29: 28 | B29: 職歴②の勤務終了月 | D29: 勤務を終了した（退職した）年（西暦）・月を入力してください | E29: 43891
A30: 29 | B30: 職歴③の職務内容 | D30: 職歴が4つ以上ある方は、備考に可能な限り入力してください
A31: 30 | B31: 職歴③の勤務開始月 | D31: 勤務を開始した年（西暦）・月を入力してください | E31: 43891
A32: 31 | B32: 職歴③の勤務終了月 | D32: 勤務を終了した（退職した）年（西暦）・月を入力してください | E32: 43891
A33: 32 | B33: 免許・資格等①の名称
A34: 33 | B34: 免許・資格等①の取得年・月 | D34: 免許・資格等を取得した年（西暦）・月を入力してください | E34: 43891
A35: 34 | B35: 免許・資格等②の名称
A36: 35 | B36: 免許・資格等②の取得年・月 | D36: 免許・資格等を取得した年（西暦）・月を入力してください | E36: 43891
A37: 36 | B37: 免許・資格等③の名称
A38: 37 | B38: 免許・資格等③の取得年・月 | D38: 免許・資格等を取得した年（西暦）・月を入力してください | E38: 43891
A39: 38 | B39: 免許・資格等④の名称 | D39: 記入したい免許・資格等が5つ以上ある場合は、備考に記入してください
A40: 39 | B40: 免許・資格等④の取得年・月 | D40: 免許・資格等を取得した年（西暦）・月を入力してください | E40: 43891
...

Sheet 記入要領
A1: 記入要領
A2: ・「入力シート」の入力欄に入力すると「官庁訪問カード」シートに出力されます。 ・一部項目は「官庁訪問カード」シートに直接入力する必要がありますのでご注意ください。 ・官庁訪問記録票を印刷する時は、「官庁訪問カード」シートのみを両面印刷してください（入力シートの提出は不要です）。 ・PDFに変換する時も、「官庁訪問カード」シートのみをPDFに変換する形で構いません。 ・別途、「官庁訪問カード」シートのPDFを採用ページに掲載していますので、手書きで記入する場合はそちらを印刷してご使用ください。
